Workbook

Sheet Sheet1
A1: 赤峰市妇幼保健院2026年公开招聘控制数专业技术人员总成绩及进入体检人员名单
A2: 序 号 | B2: 姓名 | C2: 考号 | D2: 身份证号 | E2: 性 别 | F2: 单位 | G2: 报考岗位 | H2: 面试 成绩 | I2: 笔试 成绩 | J2: 最终 成绩 | K2: 排 名 | L2: 是否进入 体检
A3: 1 | B3: 马艳凤 | C3: =VLOOKUP(B:B,Sheet2!A:E,3,0) -> 20261001006 | D3: =VLOOKUP(B:B,Sheet2!A:E,4,0) -> 150430198506251085 | E3: 女 | F3: 赤峰市妇幼保健院 | G3: 内科实用型人才 | H3: 72.4 | I3: 56.63 | J3: =I3*0.5+H3*0.5 -> 64.515 | K3: 1 | L3: 是
A4: 2 | B4: 赵莹 | C4: =VLOOKUP(B:B,Sheet2!A:E,3,0) -> 20261001002 | D4: =VLOOKUP(B:B,Sheet2!A:E,4,0) -> 150403199511033029 | E4: 女 | F4: 赤峰市妇幼保健院 | G4: 内科实用型人才 | H4: 74.52 | I4: 53.75 | J4: =I4*0.5+H4*0.5 -> 64.135 | K4: 2 | L4: 否
A5: 3 | B5: 付海朋 | C5: =VLOOKUP(B:B,Sheet2!A:E,3,0) -> 20261001013 | D5: =VLOOKUP(B:B,Sheet2!A:E,4,0) -> 211382198710221818 | E5: 男 | F5: 赤峰市妇幼保健院 | G5: 麻醉科实用型人才 | H5: 69.1 | I5: 49.88 | J5: =I5*0.5+H5*0.5 -> 59.49 | K5: 1 | L5: 否
A6: 4 | B6: 李津蕊 | C6: =VLOOKUP(B:B,Sheet2!A:E,3,0) -> 20261003018 | D6: =VLOOKUP(B:B,Sheet2!A:E,4,0) -> 150403199910311081 | E6: 女 | F6: 赤峰市妇幼保健院 | G6: 麻醉科普通岗位 | H6: 75.9 | I6: 56.75 | J6: =I6*0.5+H6*0.5 -> 66.325 | K6: 1 | L6: 是
A7: 5 | B7: 王昕予 | C7: =VLOOKUP(B:B,Sheet2!A:E,3,0) -> 20261003015 | D7: =VLOOKUP(B:B,Sheet2!A:E,4,0) -> 150429200211151217 | E7: 男 | F7: 赤峰市妇幼保健院 | G7: 麻醉科普通岗位 | H7: 73.54 | I7: 57 | J7: =I7*0.5+H7*0.5 -> 65.27 | K7: 2 | L7: 否
A8: 6 | B8: 张颖 | C8: =VLOOKUP(B:B,Sheet2!A:E,3,0) -> 20261003011 | D8: =VLOOKUP(B:B,Sheet2!A:E,4,0) -> 150402199801021329 | E8: 女 | F8: 赤峰市妇幼保健院 | G8: 麻醉科普通岗位 | H8: 71.46 | I8: 56.75 | J8: =I8*0.5+H8*0.5 -> 64.105 | K8: 3 | L8: 否
A9: 7 | B9: 张静 | C9: =VLOOKUP(B:B,Sheet2!A:E,3,0) -> 20261001022 | D9: =VLOOKUP(B:B,Sheet2!A:E,4,0) -> 150426198902156122 | E9: 女 | F9: 赤峰市妇幼保健院 | G9: 精神卫生科实用型人才 | H9: 75.46 | I9: 42.88 | J9: =I9*0.5+H9*0.5 -> 59.17 | K9: 1 | L9: 是
A10: 8 | B10: 徐天资 | C10: =VLOOKUP(B:B,Sheet2!A:E,3,0) -> 20261001025 | D10: =VLOOKUP(B:B,Sheet2!A:E,4,0) -> 150430199006030387 | E10: 女 | F10: 赤峰市妇幼保健院 | G10: 产科实用型人才 | H10: 77.44 | I10: 56.13 | J10: =I10*0.5+H10*0.5 -> 66.785 | K10: 1 | L10: 是
A11: 9 | B11: 董江洁 | C11: =VLOOKUP(B:B,Sheet2!A:E,3,0) -> 20261001023 | D11: =VLOOKUP(B:B,Sheet2!A:E,4,0) -> 150429199004143227 | E11: 女 | F11: 赤峰市妇幼保健院 | G11: 产科实用型人才 | H11: 69 | I11: 43.75 | J11: =I11*0.5+H11*0.5 -> 56.375 | K11: 2 | L11: 否
A12: 10 | B12: 柳琳 | C12: =VLOOKUP(B:B,Sheet2!A:E,3,0) -> 20261001029 | D12: =VLOOKUP(B:B,Sheet2!A:E,4,0) -> 150425199510016700 | E12: 女 | F12: 赤峰市妇幼保健院 | G12: 妇科实用型人才 | H12: 76.98 | I12: 59.13 | J12: =I12*0.5+H12*0.5 -> 68.055 | K12: 1 | L12: 是
A13: 11 | B13: 郝若彤 | C13: =VLOOKUP(B:B,Sheet2!A:E,3,0) -> 20261002001 | D13: =VLOOKUP(B:B,Sheet2!A:E,4,0) -> 150402199911040926 | E13: 女 | F13: 赤峰市妇幼保健院 | G13: 妇科普通岗位 | H13: 69.8 | I13: 65.62 | J13: =I13*0.5+H13*0.5 -> 67.71 | K13: 1 | L13: 是
A14: 12 | B14: 杨薇 | C14: =VLOOKUP(B:B,Sheet2!A:E,3,0) -> 20261002014 | D14: =VLOOKUP(B:B,Sheet2!A:E,4,0) -> 15042319991014002X | E14: 女 | F14: 赤峰市妇幼保健院 | G14: 妇科普通岗位 | H14: 74.06 | I14: 54.88 | J14: =I14*0.5+H14*0.5 -> 64.47 | K14: 2 | L14: 否
A15: 13 | B15: 苏日娜 | C15: =VLOOKUP(B:B,Sheet2!A:E,3,0) -> 20261002027 | D15: =VLOOKUP(B:B,Sheet2!A:E,4,0) -> 152322200010094123 | E15: 女 | F15: 赤峰市妇幼保健院 | G15: 妇科普通岗位 | H15: 71.58 | I15: 51 | J15: =I15*0.5+H15*0.5 -> 61.29 | K15: 3 | L15: 否
A16: 14 | B16: 赵红旭 | C16: =VLOOKUP(B:B,Sheet2!A:E,3,0) -> 20261003020 | D16: =VLOOKUP(B:B,Sheet2!A:E,4,0) -> 150430199601010209 | E16: 女 | F16: 赤峰市妇幼保健院 | G16: 儿保科实用型人才 | H16: 72.02 | I16: 57.88 | J16: =I16*0.5+H16*0.5 -> 64.95 | K16: 1 | L16: 是
A17: 15 | B17: 王颖 | C17: =VLOOKUP(B:B,Sheet2!A:E,3,0) -> 20261003026 | D17: =VLOOKUP(B:B,Sheet2!A:E,4,0) -> 150402198409142420 | E17: 女 | F17: 赤峰市妇幼保健院 | G17: 儿保科实用型人才 | H17: 73.32 | I17: 52.88 | J17: =I17*0.5+H17*0.5 -> 63.1 | K17: 2 | L17: 否
A18: 16 | B18: 葛向丽 | C18: =VLOOKUP(B:B,Sheet2!A:E,3,0) -> 20261004007 | D18: =VLOOKUP(B:B,Sheet2!A:E,4,0) -> 150421199612304724 | E18: 女 | F18: 赤峰市妇幼保健院 | G18: 儿保科普通岗位 | H18: 76.84 | I18: 68.25 | J18: =I18*0.5+H18*0.5 -> 72.545 | K18: 1 | L18: 是
A19: 17 | B19: 孙美璇 | C19: =VLOOKUP(B:B,Sheet2!A:E,3,0) -> 20261004013 | D19: =VLOOKUP(B:B,Sheet2!A:E,4,0) -> 152324199911236026 | E19: 女 | F19: 赤峰市妇幼保健院 | G19: 儿保科普通岗位 | H19: 74.58 | I19: 66 | J19: =I19*0.5+H19*0.5 -> 70.29 | K19: 2 | L19: 否
A20: 18 | B20: 孙静 | C20: =VLOOKUP(B:B,Sheet2!A:E,3,0) -> 20261016024 | D20: =VLOOKUP(B:B,Sheet2!A:E,4,0) -> 610122199210144941 | E20: 女 | F20: 赤峰市妇幼保健院 | G20: 中医科实用型人才 | H20: 74.86 | I20: 63.75 | J20: =I20*0.5+H20*0.5 -> 69.305 | K20: 1 | L20: 是
A21: 19 | B21: 张知彤 | C21: =VLOOKUP(B:B,Sheet2!A:E,3,0) -> 20261016029 | D21: =VLOOKUP(B:B,Sheet2!A:E,4,0) -> 150428199010152713 | E21: 男 | F21: 赤峰市妇幼保健院 | G21: 中医科实用型人才 | H21: 72.8 | I21: 54.88 | J21: =I21*0.5+H21*0.5 -> 63.84 | K21: 2 | L21: 是
A22: 20 | B22: 赵晨希 | C22: =VLOOKUP(B:B,Sheet2!A:E,3,0) -> 20261016025 | D22: =VLOOKUP(B:B,Sheet2!A:E,4,0) -> 150430198811270012 | E22: 男 | F22: 赤峰市妇幼保健院 | G22: 中医科实用型人才 | H22: 69.74 | I22: 55.25 | J22: =I22*0.5+H22*0.5 -> 62.495 | K22: 3 | L22: 是
A23: 21 | B23: 刘立满 | C23: =VLOOKUP(B:B,Sheet2!A:E,3,0) -> 20261016022 | D23: =VLOOKUP(B:B,Sheet2!A:E,4,0) -> 15040419920720431X | E23: 男 | F23: 赤峰市妇幼保健院 | G23: 中医科实用型人才 | H23: 67.34 | I23: 53.25 | J23: =I23*0.5+H23*0.5 -> 60.295 | K23: 4 | L23: 否
A24: 22 | B24: 郭楠楠 | C24: =VLOOKUP(B:B,Sheet2!A:E,3,0) -> 20263028010 | D24: =VLOOKUP(B:B,Sheet2!A:E,4,0) -> 150402198702100940 | E24: 女 | F24: 赤峰市妇幼保健院 | G24: 检验科实用型人才 | H24: 77.58 | I24: 56.5 | J24: =I24*0.5+H24*0.5 -> 67.04 | K24: 1 | L24: 是
A25: 23 | B25: 贾云晰 | C25: =VLOOKUP(B:B,Sheet2!A:E,3,0) -> 20263029024 | D25: =VLOOKUP(B:B,Sheet2!A:E,4,0) -> 150404200012060016 | E25: 男 | F25: 赤峰市妇幼保健院 | G25: 检验科普通岗位 | H25: 75.28 | I25: 61.13 | J25: =I25*0.5+H25*0.5 -> 68.205 | K25: 1 | L25: 是
A26: 24 | B26: 孟美玲 | C26: =VLOOKUP(B:B,Sheet2!A:E,3,0) -> 20263031021 | D26: =VLOOKUP(B:B,Sheet2!A:E,4,0) -> 152322199910234325 | E26: 女 | F26: 赤峰市妇幼保健院 | G26: 检验科普通岗位 | H26: 73.6 | I26: 58.63 | J26: =I26*0.5+H26*0.5 -> 66.115 | K26: 2 | L26: 否
A27: 25 | B27: 吕学敏 | C27: =VLOOKUP(B:B,Sheet2!A:E,3,0) -> 20263030009 | D27: =VLOOKUP(B:B,Sheet2!A:E,4,0) -> 130725200011270366 | E27: 女 | F27: 赤峰市妇幼保健院 | G27: 检验科普通岗位 | H27: 71.8 | I27: 58.13 | J27: =I27*0.5+H27*0.5 -> 64.965 | K27: 3 | L27: 否
A28: 26 | B28: 山雪媛 | C28: =VLOOKUP(B:B,Sheet2!A:E,3,0) -> 20261004024 | D28: =VLOOKUP(B:B,Sheet2!A:E,4,0) -> 150425199405105824 | E28: 女 | F28: 赤峰市妇幼保健院 | G28: 放射科实用型人才 | H28: 70.84 | I28: 52.88 | J28: =I28*0.5+H28*0.5 -> 61.86 | K28: 1 | L28: 否
A29: 27 | B29: 田静 | C29: =VLOOKUP(B:B,Sheet2!A:E,3,0) -> 20261004026 | D29: =VLOOKUP(B:B,Sheet2!A:E,4,0) -> 15040219840226242X | E29: 女 | F29: 赤峰市妇幼保健院 | G29: 超声科实用型人才 | H29: 71.4 | I29: 36.5 | J29: =I29*0.5+H29*0.5 -> 53.95 | K29: 1 | L29: 否
A30: 28 | B30: 蒲笑妍 | C30: =VLOOKUP(B:B,Sheet2!A:E,3,0) -> 20261004029 | D30: =VLOOKUP(B:B,Sheet2!A:E,4,0) -> 15040220030425002X | E30: 女 | F30: 赤峰市妇幼保健院 | G30: 超声科普通岗位 | H30: 68.92 | I30: 29.75 | J30: =I30*0.5+H30*0.5 -> 49.335 | K30: 1 | L30: 否
... A64: 62 | B64: 李晨 | C64: =VLOOKUP(B:B,Sheet2!A:E,3,0) -> 20261007015 | D64: =VLOOKUP(B:B,Sheet2!A:E,4,0) -> 150402199112060322 | E64: 女 | F64: 赤峰市妇幼保健院 | G64: 党办实用型人才 | H64: 76.44 | I64: 86.87 | J64: =I64*0.5+H64*0.5 -> 81.655 | K64: 1 | L64: 是

Sheet Sheet2
A1: 姓名 | B1: 岗位 | C1: 考号 | D1: 身份证号码 | E1: 笔试成绩 | I1: 组别
A2: 马艳凤 | B2: 内科实用型人才 | C2: 20261001006 | D2: 150430198506251085 | E2: 56.63 | I2: 第一组
A3: 赵莹 | B3: 内科实用型人才 | C3: 20261001002 | D3: 150403199511033029 | E3: 53.75 | I3: 第一组
A4: 付海朋 | B4: 麻醉科实用型人才 | C4: 20261001013 | D4: 211382198710221818 | E4: 49.88
A5: 王昕予 | B5: 麻醉科普通岗位 | C5: 20261003015 | D5: 150429200211151217 | E5: 57 | I5: 第一组
A6: 张颖 | B6: 麻醉科普通岗位 | C6: 20261003011 | D6: 150402199801021329 | E6: 56.75 | I6: 第一组
A7: 李津蕊 | B7: 麻醉科普通岗位 | C7: 20261003018 | D7: 150403199910311081 | E7: 56.75 | I7: 第一组
A8: 张静 | B8: 精神卫生科实用型人才 | C8: 20261001022 | D8: 150426198902156122 | E8: 42.88 | I8: 第一组
A9: 徐天资 | B9: 产科实用型人才 | C9: 20261001025 | D9: 150430199006030387 | E9: 56.13 | I9: 第一组
A10: 董江洁 | B10: 产科实用型人才 | C10: 20261001023 | D10: 150429199004143227 | E10: 43.75
A11: 柳琳 | B11: 妇科实用型人才 | C11: 20261001029 | D11: 150425199510016700 | E11: 59.13 | I11: 第一组
A12: 郝若彤 | B12: 妇科普通岗位 | C12: 20261002001 | D12: 150402199911040926 | E12: 65.62 | I12: 第一组
A13: 杨薇 | B13: 妇科普通岗位 | C13: 20261002014 | D13: 15042319991014002X | E13: 54.88 | I13: 第一组
A14: 苏日娜 | B14: 妇科普通岗位 | C14: 20261002027 | D14: 152322200010094123 | E14: 51 | I14: 第一组
A15: 赵红旭 | B15: 儿保科实用型人才 | C15: 20261003020 | D15: 150430199601010209 | E15: 57.88 | I15: 第一组
A16: 王颖 | B16: 儿保科实用型人才 | C16: 20261003026 | D16: 150402198409142420 | E16: 52.88 | I16: 第一组
A17: 葛向丽 | B17: 儿保科普通岗位 | C17: 20261004007 | D17: 150421199612304724 | E17: 68.25 | I17: 第一组
A18: 孙美璇 | B18: 儿保科普通岗位 | C18: 20261004013 | D18: 152324199911236026 | E18: 66 | I18: 第一组
A19: 王嘉骏 | B19: 儿保科普通岗位 | C19: 20261004001 | D19: 150402200204262410 | E19: 65.5 | I19: 第一组
A20: 孙静 | B20: 中医科实用型人才 | C20: 20261016024 | D20: 610122199210144941 | E20: 63.75 | I20: 第一组
A21: 赵晨希 | B21: 中医科实用型人才 | C21: 20261016025 | D21: 150430198811270012 | E21: 55.25 | I21: 第一组
A22: 张知彤 | B22: 中医科实用型人才 | C22: 20261016029 | D22: 150428199010152713 | E22: 54.88 | I22: 第一组
... A24: 郭楠楠 | B24: 检验科实用型人才 | C24: 20263028010 | D24: 150402198702100940 | E24: 56.5 | I24: 第一组
A25: 梁艳茹 | B25: 检验科实用型人才 | C25: 20263028014 | D25: 150429199111284228 | E25: 50.63
A26: 贾云晰 | B26: 检验科普通岗位 | C26: 20263029024 | D26: 150404200012060016 | E26: 61.13 | I26: 第一组
A27: 孟美玲 | B27: 检验科普通岗位 | C27: 20263031021 | D27: 152322199910234325 | E27: 58.63 | I27: 第一组
A28: 吕学敏 | B28: 检验科普通岗位 | C28: 20263030009 | D28: 130725200011270366 | E28: 58.13 | I28: 第一组
A29: 山雪媛 | B29: 放射科实用型人才 | C29: 20261004024 | D29: 150425199405105824 | E29: 52.88 | I29: 第一组
A30: 田静 | B30: 超声科实用型人才 | C30: 20261004026 | D30: 15040219840226242X | E30: 36.5 | I30: 第一组
A31: 蒲笑妍 | B31: 超声科普通岗位 | C31: 20261004029 | D31: 15040220030425002X | E31: 29.75 | I31: 第一组
A32: 邱晨洋 | B32: 口腔科普通岗位 | C32: 20263027005 | D32: 150402200208225350 | E32: 80 | I32: 第一组
A33: 高飞 | B33: 口腔科普通岗位 | C33: 20263027013 | D33: 150426199510043211 | E33: 76.62 | I33: 第一组
A34: 张琛 | B34: 口腔科普通岗位 | C34: 20263027019 | D34: 150402199705220213 | E34: 74.5 | I34: 第一组
A35: 秦宇佳 | B35: 药房普通岗位 | C35: 20261017020 | D35: 150404199612125025 | E35: 59.38 | I35: 第二组
A36: 许浩楠 | B36: 药房普通岗位 | C36: 20261017004 | D36: 150429199702030545 | E36: 55.88 | I36: 第二组
A37: 尹丽 | B37: 药房普通岗位 | C37: 20261018006 | D37: 152122199811012128 | E37: 54.5 | I37: 第二组
... A49: 杨剑超 | B49: 信息科普通岗位 | C49: 20261012003 | D49: 150403199910251023 | E49: 87.88 | I49: 第二组
A50: 孙燚伦 | B50: 护理组普通岗位1 | C50: 20263021007 | D50: 150429200309285010 | E50: 61.25
A51: 王凯 | B51: 护理组普通岗位1 | C51: 20263021015 | D51: 150122199910051155 | E51: 67.25 | I51: 第二组
A52: 高健 | B52: 护理组普通岗位1 | C52: 20263021016 | D52: 15042220040804391X | E52: 66.12 | I52: 第二组
A53: 马鑫磊 | B53: 护理组普通岗位1 | C53: 20263021021 | D53: 150428200309166170 | E53: 63.5 | I53: 第二组
A54: 郝宏伟 | B54: 护理组普通岗位1 | C54: 20263021003 | D54: 150430200501120414 | E54: 61.75 | I54: 第二组
A55: 李世博 | B55: 护理组普通岗位1 | C55: 20263021019 | D55: 411627200303136113 | E55: 61.75 | I55: 第二组
A56: 孙芯蕊 | B56: 护理组普通岗位2 | C56: 20263025014 | D56: 150430200305150923 | E56: 68.75
A57: 王赫盈 | B57: 护理组普通岗位2 | C57: 20263023012 | D57: 15042220040320004X | E57: 75.25 | I57: 第二组
A58: 訾茗媛 | B58: 护理组普通岗位2 | C58: 20263025024 | D58: 150423200408290028 | E58: 73.12 | I58: 第二组
A59: 蒋佳宜 | B59: 护理组普通岗位2 | C59: 20263024007 | D59: 150403200210310526 | E59: 72.25 | I59: 第二组
A60: 王金叶 | B60: 护理组普通岗位2 | C60: 20263024008 | D60: 15042920031206362X | E60: 72.25 | I60: 第二组
A61: 禇银玲 | B61: 护理组普通岗位2 | C61: 20263023017 | D61: 150430200311231180 | E61: 70.5 | I61: 第二组
A62: 王晶 | B62: 办公室普通岗位 | C62: 20261005015 | D62: 150430200011201182 | E62: 88.87 | I62: 第二组
A63: 王晓惠 | B63: 办公室普通岗位 | C63: 20261007003 | D63: 150430199801200381 | E63: 86.25 | I63: 第二组
A64: 刘敏婧 | B64: 办公室普通岗位 | C64: 20261006010 | D64: 150426200206012168 | E64: 85.75 | I64: 第二组
A65: 李晨 | B65: 党办实用型人才 | C65: 20261007015 | D65: 150402199112060322 | E65: 86.87 | I65: 第二组
